BEGIN:VCALENDAR
VERSION:2.0
PRODID:-//Pretoria Attorneys Association - ECPv5.16.1.1//NONSGML v1.0//EN
CALSCALE:GREGORIAN
METHOD:PUBLISH
X-WR-CALNAME:Pretoria Attorneys Association
X-ORIGINAL-URL:https://www.ppv.co.za
X-WR-CALDESC:Events for Pretoria Attorneys Association
BEGIN:VTIMEZONE
TZID:Africa/Johannesburg
BEGIN:STANDARD
TZOFFSETFROM:+0200
TZOFFSETTO:+0200
TZNAME:SAST
DTSTART:20260101T000000
END:STANDARD
END:VTIMEZONE
BEGIN:VEVENT
DTSTART;VALUE=DATE:20260427
DTEND;VALUE=DATE:20260501
DTSTAMP:20260421T002149
CREATED:20260420T061409Z
LAST-MODIFIED:20260420T061422Z
UID:90085-1777248000-1777593599@www.ppv.co.za
SUMMARY:Allocated Opposed Motions before Retief J 2026-04-27 to 2026-04-30
DESCRIPTION:Click here or on the website link below to view the details.
URL:https://www.ppv.co.za/court-roll/allocated-opposed-motions-before-retief-j-2026-04-27-to-2026-04-30/
CATEGORIES:Opposed Motion Rolls
END:VEVENT
END:VCALENDAR