BEGIN:VCALENDAR
VERSION:2.0
PRODID:-//Pretoria Attorneys Association - ECPv5.16.1.1//NONSGML v1.0//EN
CALSCALE:GREGORIAN
METHOD:PUBLISH
X-WR-CALNAME:Pretoria Attorneys Association
X-ORIGINAL-URL:https://www.ppv.co.za
X-WR-CALDESC:Events for Pretoria Attorneys Association
BEGIN:VTIMEZONE
TZID:Africa/Johannesburg
BEGIN:STANDARD
TZOFFSETFROM:+0200
TZOFFSETTO:+0200
TZNAME:SAST
DTSTART:20260101T000000
END:STANDARD
END:VTIMEZONE
BEGIN:VEVENT
DTSTART;VALUE=DATE:20260423
DTEND;VALUE=DATE:20260424
DTSTAMP:20260420T203459
CREATED:20260420T073422Z
LAST-MODIFIED:20260420T073435Z
UID:90125-1776902400-1776988799@www.ppv.co.za
SUMMARY:Civil Trial Roll before Honourable Justice Davis J & Collis ADJP 2026-04-23
DESCRIPTION:Click here or on the website link below to view the details.
URL:https://www.ppv.co.za/court-roll/civil-trial-roll-before-honourable-justice-davis-j-collis-adjp-2026-04-23/
CATEGORIES:Day Rolls
END:VEVENT
END:VCALENDAR