BEGIN:VCALENDAR
VERSION:2.0
PRODID:-//Pretoria Attorneys Association - ECPv5.16.1.1//NONSGML v1.0//EN
CALSCALE:GREGORIAN
METHOD:PUBLISH
X-WR-CALNAME:Pretoria Attorneys Association
X-ORIGINAL-URL:https://www.ppv.co.za
X-WR-CALDESC:Events for Pretoria Attorneys Association
BEGIN:VTIMEZONE
TZID:Africa/Johannesburg
BEGIN:STANDARD
TZOFFSETFROM:+0200
TZOFFSETTO:+0200
TZNAME:SAST
DTSTART:20260101T000000
END:STANDARD
END:VTIMEZONE
BEGIN:VEVENT
DTSTART;VALUE=DATE:20260421
DTEND;VALUE=DATE:20260424
DTSTAMP:20260422T115912
CREATED:20260417T115529Z
LAST-MODIFIED:20260417T115541Z
UID:90037-1776729600-1776988799@www.ppv.co.za
SUMMARY:Directive: Trial Interlocutory Roll before Raikane AJ 2026-04-21 to 2026-04-23
DESCRIPTION:Click here or on the website link below to view the details.
URL:https://www.ppv.co.za/court-roll/directive-trial-interlocutory-roll-before-raikane-aj-2026-04-21-to-2026-04-23/
CATEGORIES:Interlocutory Rolls
END:VEVENT
END:VCALENDAR