BEGIN:VCALENDAR
VERSION:2.0
PRODID:-//Pretoria Attorneys Association - ECPv5.16.1.1//NONSGML v1.0//EN
CALSCALE:GREGORIAN
METHOD:PUBLISH
X-WR-CALNAME:Pretoria Attorneys Association
X-ORIGINAL-URL:https://www.ppv.co.za
X-WR-CALDESC:Events for Pretoria Attorneys Association
BEGIN:VTIMEZONE
TZID:Africa/Johannesburg
BEGIN:STANDARD
TZOFFSETFROM:+0200
TZOFFSETTO:+0200
TZNAME:SAST
DTSTART:20260101T000000
END:STANDARD
END:VTIMEZONE
BEGIN:VEVENT
DTSTART;VALUE=DATE:20260427
DTEND;VALUE=DATE:20260502
DTSTAMP:20260425T033457
CREATED:20260423T083033Z
LAST-MODIFIED:20260423T083109Z
UID:90385-1777248000-1777679999@www.ppv.co.za
SUMMARY:Directives & Family Matters before Van Der Schyff J 2026-04-27 to 2026-05-01
DESCRIPTION:Click here or on the website link below to view the details.
URL:https://www.ppv.co.za/court-roll/directives-family-matters-before-van-der-schyff-j-2026-04-27-to-2026-05-01/
CATEGORIES:Family Court Rolls
END:VEVENT
END:VCALENDAR