BEGIN:VCALENDAR
VERSION:2.0
PRODID:-//Pretoria Attorneys Association - ECPv5.16.1.1//NONSGML v1.0//EN
CALSCALE:GREGORIAN
METHOD:PUBLISH
X-WR-CALNAME:Pretoria Attorneys Association
X-ORIGINAL-URL:https://www.ppv.co.za
X-WR-CALDESC:Events for Pretoria Attorneys Association
BEGIN:VTIMEZONE
TZID:Africa/Johannesburg
BEGIN:STANDARD
TZOFFSETFROM:+0200
TZOFFSETTO:+0200
TZNAME:SAST
DTSTART:20260101T000000
END:STANDARD
END:VTIMEZONE
BEGIN:VEVENT
DTSTART;VALUE=DATE:20260422
DTEND;VALUE=DATE:20260423
DTSTAMP:20260420T203511
CREATED:20260417T073729Z
LAST-MODIFIED:20260417T073744Z
UID:89948-1776816000-1776902399@www.ppv.co.za
SUMMARY:Trial Interlocutory Roll Bearing the Teams Link before Leballo AJ 2026-04-22
DESCRIPTION:Click here or on the website link below to view the details.
URL:https://www.ppv.co.za/court-roll/trial-interlocutory-roll-bearing-the-teams-link-before-leballo-aj-2026-04-22/
CATEGORIES:Interlocutory Rolls
END:VEVENT
END:VCALENDAR