BEGIN:VCALENDAR
VERSION:2.0
PRODID:-//Pretoria Attorneys Association - ECPv5.16.1.1//NONSGML v1.0//EN
CALSCALE:GREGORIAN
METHOD:PUBLISH
X-WR-CALNAME:Pretoria Attorneys Association
X-ORIGINAL-URL:https://www.ppv.co.za
X-WR-CALDESC:Events for Pretoria Attorneys Association
BEGIN:VTIMEZONE
TZID:Africa/Johannesburg
BEGIN:STANDARD
TZOFFSETFROM:+0200
TZOFFSETTO:+0200
TZNAME:SAST
DTSTART:20260101T000000
END:STANDARD
END:VTIMEZONE
BEGIN:VEVENT
DTSTART;VALUE=DATE:20260428
DTEND;VALUE=DATE:20260429
DTSTAMP:20260420T192202
CREATED:20260420T103204Z
LAST-MODIFIED:20260420T103225Z
UID:90144-1777334400-1777420799@www.ppv.co.za
SUMMARY:Unopposed Motions Roll before Janse van Nieuwenhuizen J\, Francis-Subbiah J & Reid J 2026-04-28
DESCRIPTION:Click here or on the website link below to view the details.
URL:https://www.ppv.co.za/court-roll/unopposed-motions-roll-before-janse-van-nieuwenhuizen-j-francis-subbiah-j-reid-j-2026-04-28/
CATEGORIES:Unopposed Motion Rolls
END:VEVENT
END:VCALENDAR