BEGIN:VCALENDAR
VERSION:2.0
PRODID:-//Pretoria Attorneys Association - ECPv5.16.1.1//NONSGML v1.0//EN
CALSCALE:GREGORIAN
METHOD:PUBLISH
X-WR-CALNAME:Pretoria Attorneys Association
X-ORIGINAL-URL:https://www.ppv.co.za
X-WR-CALDESC:Events for Pretoria Attorneys Association
BEGIN:VTIMEZONE
TZID:Africa/Johannesburg
BEGIN:STANDARD
TZOFFSETFROM:+0200
TZOFFSETTO:+0200
TZNAME:SAST
DTSTART:20260101T000000
END:STANDARD
END:VTIMEZONE
BEGIN:VEVENT
DTSTART;VALUE=DATE:20260416
DTEND;VALUE=DATE:20260417
DTSTAMP:20260420T224256
CREATED:20260409T112127Z
LAST-MODIFIED:20260409T112139Z
UID:89199-1776297600-1776383999@www.ppv.co.za
SUMMARY:Admissions before the Honourable Teffo J & Kumalo J\, Makhoba J & Kumalo J 2026-04-16
DESCRIPTION:Click here or on the website link below to view the details.
URL:https://www.ppv.co.za/court-roll/admissions-before-the-honourable-teffo-j-kumalo-j-makhoba-j-kumalo-j-2026-04-16/
CATEGORIES:Day Rolls
END:VEVENT
BEGIN:VEVENT
DTSTART;VALUE=DATE:20260416
DTEND;VALUE=DATE:20260417
DTSTAMP:20260420T224256
CREATED:20260413T102245Z
LAST-MODIFIED:20260413T102257Z
UID:89417-1776297600-1776383999@www.ppv.co.za
SUMMARY:Civil Appeals before Justice Teffo J & Kumalo J 2026-04-16
DESCRIPTION:Click here or on the website link below to view the details.
URL:https://www.ppv.co.za/court-roll/civil-appeals-before-justice-teffo-j-kumalo-j-2026-04-16/
CATEGORIES:Day Rolls
END:VEVENT
BEGIN:VEVENT
DTSTART;VALUE=DATE:20260416
DTEND;VALUE=DATE:20260417
DTSTAMP:20260420T224256
CREATED:20260413T103322Z
LAST-MODIFIED:20260413T103333Z
UID:89422-1776297600-1776383999@www.ppv.co.za
SUMMARY:Directive Admissions Civil Appeals before Justice Teffo J & Kumalo J 2026-04-16
DESCRIPTION:Click here or on the website link below to view the details.
URL:https://www.ppv.co.za/court-roll/directive-admissions-civil-appeals-before-justice-teffo-j-kumalo-j-2026-04-16/
CATEGORIES:Day Rolls
END:VEVENT
BEGIN:VEVENT
DTSTART;VALUE=DATE:20260416
DTEND;VALUE=DATE:20260417
DTSTAMP:20260420T224256
CREATED:20260415T060330Z
LAST-MODIFIED:20260415T060344Z
UID:89518-1776297600-1776383999@www.ppv.co.za
SUMMARY:Civil Trial Roll before Honourable Justice Collis ADJP 2026-04-16
DESCRIPTION:Click here or on the website link below to view the details.
URL:https://www.ppv.co.za/court-roll/civil-trial-roll-before-honourable-justice-collis-adjp-2026-04-16/
CATEGORIES:Day Rolls
END:VEVENT
BEGIN:VEVENT
DTSTART;VALUE=DATE:20260416
DTEND;VALUE=DATE:20260417
DTSTAMP:20260420T224256
CREATED:20260416T054956Z
LAST-MODIFIED:20260416T055024Z
UID:89831-1776297600-1776383999@www.ppv.co.za
SUMMARY:Gauteng High Court Pretoria Day Roll 2026-04-16
DESCRIPTION:Click here or on the website link below to view the details.
URL:https://www.ppv.co.za/court-roll/gauteng-high-court-pretoria-day-roll-2026-04-16/
CATEGORIES:Day Rolls
END:VEVENT
END:VCALENDAR