BEGIN:VCALENDAR
VERSION:2.0
PRODID:-//Pretoria Attorneys Association - ECPv5.16.1.1//NONSGML v1.0//EN
CALSCALE:GREGORIAN
METHOD:PUBLISH
X-WR-CALNAME:Pretoria Attorneys Association
X-ORIGINAL-URL:https://www.ppv.co.za
X-WR-CALDESC:Events for Pretoria Attorneys Association
BEGIN:VTIMEZONE
TZID:Africa/Johannesburg
BEGIN:STANDARD
TZOFFSETFROM:+0200
TZOFFSETTO:+0200
TZNAME:SAST
DTSTART:20260101T000000
END:STANDARD
END:VTIMEZONE
BEGIN:VEVENT
DTSTART;VALUE=DATE:20260420
DTEND;VALUE=DATE:20260421
DTSTAMP:20260420T224257
CREATED:20260415T092745Z
LAST-MODIFIED:20260415T092801Z
UID:89608-1776643200-1776729599@www.ppv.co.za
SUMMARY:Admissions before the Honourable Hassim J & Ngeno AJ 2026-04-20
DESCRIPTION:Click here or on the website link below to view the details.
URL:https://www.ppv.co.za/court-roll/admissions-before-the-honourable-hassim-j-ngeno-aj-2026-04-20/
CATEGORIES:Day Rolls
END:VEVENT
BEGIN:VEVENT
DTSTART;VALUE=DATE:20260420
DTEND;VALUE=DATE:20260421
DTSTAMP:20260420T224257
CREATED:20260417T061713Z
LAST-MODIFIED:20260417T061734Z
UID:89918-1776643200-1776729599@www.ppv.co.za
SUMMARY:Civil Trial Roll before Honourable Justice Collis ADJP 2026-04-20
DESCRIPTION:Click here or on the website link below to view the details.
URL:https://www.ppv.co.za/court-roll/civil-trial-roll-before-honourable-justice-collis-adjp-2026-04-20/
CATEGORIES:Day Rolls
END:VEVENT
BEGIN:VEVENT
DTSTART;VALUE=DATE:20260420
DTEND;VALUE=DATE:20260421
DTSTAMP:20260420T224257
CREATED:20260420T055509Z
LAST-MODIFIED:20260420T055535Z
UID:90080-1776643200-1776729599@www.ppv.co.za
SUMMARY:Gauteng High Court Pretoria Day Roll 2026-04-20
DESCRIPTION:Click here or on the website link below to view the details.
URL:https://www.ppv.co.za/court-roll/gauteng-high-court-pretoria-day-roll-2026-04-20/
CATEGORIES:Day Rolls
END:VEVENT
END:VCALENDAR