BEGIN:VCALENDAR
VERSION:2.0
PRODID:-//Pretoria Attorneys Association - ECPv5.16.1.1//NONSGML v1.0//EN
CALSCALE:GREGORIAN
METHOD:PUBLISH
X-WR-CALNAME:Pretoria Attorneys Association
X-ORIGINAL-URL:https://www.ppv.co.za
X-WR-CALDESC:Events for Pretoria Attorneys Association
BEGIN:VTIMEZONE
TZID:Africa/Johannesburg
BEGIN:STANDARD
TZOFFSETFROM:+0200
TZOFFSETTO:+0200
TZNAME:SAST
DTSTART:20260101T000000
END:STANDARD
END:VTIMEZONE
BEGIN:VEVENT
DTSTART;VALUE=DATE:20260428
DTEND;VALUE=DATE:20260501
DTSTAMP:20260422T132605
CREATED:20260422T073538Z
LAST-MODIFIED:20260422T073559Z
UID:90308-1777334400-1777593599@www.ppv.co.za
SUMMARY:Allocated Insolvency Court Roll before Le Grange AJ 2026-04-28 to 2026-04-30
DESCRIPTION:Click here or on the website link below to view the details.
URL:https://www.ppv.co.za/court-roll/allocated-insolvency-court-roll-before-le-grange-aj-2026-04-28-to-2026-04-30/
CATEGORIES:Insolvency Court Rolls
END:VEVENT
BEGIN:VEVENT
DTSTART;VALUE=DATE:20260428
DTEND;VALUE=DATE:20260502
DTSTAMP:20260422T132605
CREATED:20260422T075841Z
LAST-MODIFIED:20260422T075943Z
UID:90313-1777334400-1777679999@www.ppv.co.za
SUMMARY:Directive Allocated Insolvency Court Roll before Le Grange AJ 2026-04-28 to 2026-05-01
DESCRIPTION:Click here or on the website link below to view the details.
URL:https://www.ppv.co.za/court-roll/directive-allocated-insolvency-court-roll-before-le-grange-aj-2026-04-28-to-2026-05-01/
CATEGORIES:Insolvency Court Rolls
END:VEVENT
END:VCALENDAR